BEGIN:VCALENDAR
VERSION:2.0
PRODID:-//Bafasports.com - ECPv6.15.20//NONSGML v1.0//EN
CALSCALE:GREGORIAN
METHOD:PUBLISH
X-WR-CALNAME:Bafasports.com
X-ORIGINAL-URL:https://bafasports.com
X-WR-CALDESC:Events for Bafasports.com
REFRESH-INTERVAL;VALUE=DURATION:PT1H
X-Robots-Tag:noindex
X-PUBLISHED-TTL:PT1H
BEGIN:VTIMEZONE
TZID:America/Port_of_Spain
BEGIN:STANDARD
TZOFFSETFROM:-0400
TZOFFSETTO:-0400
TZNAME:AST
DTSTART:20240101T000000
END:STANDARD
END:VTIMEZONE
BEGIN:VEVENT
DTSTART;TZID=America/Port_of_Spain:20251207T150000
DTEND;TZID=America/Port_of_Spain:20251207T183000
DTSTAMP:20260424T100010
CREATED:20251010T043923Z
LAST-MODIFIED:20251204T154612Z
UID:10000008-1765119600-1765132200@bafasports.com
SUMMARY:Heart and Sole 5k and 1K 2025
DESCRIPTION:Early Bird (TT $150.00) \nJoin us for the Trinidad and Tobago Heart Foundation’s Heart and Sole 5K & 1K  2025 on Sunday\, December 7th \, 2025! Run/walk through a scenic route at the Queens Park Savannah and enjoy a fun-filled fitness experience. \nORDER A DRI-FITT T-SHIRT: https://bafasports.com/heartandsoletshirt \n \n✔️ Medal for all finishers✔️ Race day photography to capture your journey✔️ Hydration and motivation stations along the course✔️ Exciting prizes to be won \nDate: Sunday\, December 7th\, 2025 \n1K Time: 3:00 PM (Kids 12&Under) \n5K Time: 4:30 PM \nStarting Location: https://maps.app.goo.gl/CbeKhdnW5i5nbgzK9 \nhttps://bafasports.com/heartandsoletshirt \n1K Zoomable Route: https://www.strava.com/routes/3106305799097184754 \n5K Zoomable Route: https://www.strava.com/routes/3116708483324188242 \nNo Credit Card? No problem\nEither \n1) Pay via online bank transfer by contacting us on Bafasports Support Channel  (Message ONLY) https://bafasports.com/support \nor \n2) Pay via cash in person at: \nTrinebox\, North\n#10-12 Borde Street\, Port of Spain.\nBafasports Support Channel  (Message ONLY) https://bafasports.com/support\nTue – Thu 10 a.m. – 1 p.m.\nhttps://goo.gl/maps/FRTd6mn1H5k\n(Ask for Bafasports) \n\nEvent hashtags for use when sharing photos on social media: #bafasports #heartandsole5k \n\n    \n        \n			                \n					United States (US) dollar                \n				                \n					Trinidad and Tobago dollar                \n				        \n    \n\n\n \n \nCLICK FOR FREQUENTLY ASKED QUESTIONS\n\nWhat distance to run/walk?\nYou must complete a distance of 5K (3.1 mi).\nFor Kids 12&Under\, complete a distance of 1K \nHow do I collect my medal?\nMedals available for collection immediately after the run/walk. \nHow do I track my run/walk?\nWhen you sign up\, we will provide you with an easy to install app that will track the distance with your smartphone. \n\n\n\n\n\n\n 
URL:https://bafasports.com/event/heartandsole2025/
ATTACH;FMTTYPE=image/png:https://bafasports.com/wp-content/uploads/2025/09/SLWA-TSHIRT-MOCK-UP-47.png
END:VEVENT
BEGIN:VEVENT
DTSTART;TZID=America/Port_of_Spain:20251130T180000
DTEND;TZID=America/Port_of_Spain:20251130T200000
DTSTAMP:20260424T100010
CREATED:20251026T232854Z
LAST-MODIFIED:20251202T201022Z
UID:10000011-1764525600-1764532800@bafasports.com
SUMMARY:Starbucks Coffee Run: Defeat the Dark 5K 2025
DESCRIPTION:TT$175.00\nSuper Early Bird (TT$150.00) until November 11th \nSign up now  for the Starbucks Coffee Run: Defeat the Dark 5K 2025! \n\nIn partnership with the Mindwise Project\, lace up\, sip up\, and get ready to run for brighter days ahead as we support the Defeat the Dark Mental Health Project.  \n  \n\n✅ Magnificent finisher medal for all participants✅ A vibrant race village with lots of giveaways✅ Over $10\,000 in cash prizes\n✅ Age group prizes\n✅ T-shirt (dri-fit) included for all participants \n \nSize Chart (Note XL and 3XL sold out)\nDate: Sunday 30th November\,2025! \nTime: 6:00 PM \nStarting Location: Queen’s Park Savannah (Grand Stand) \nGPS Pin: https://maps.app.goo.gl/BRDAZjp4t9ea89ms5 \nZoomable Route: https://www.strava.com/routes/3403341812254537582 \n  \nNo Credit Card? No problem\nEither \n1) Pay via online bank transfer by contacting us on the Bafasports Support Channel  (Message ONLY): https://bafasports.com/support \nor \n2) Pay via cash in person at: \nTrinebox\, North\n#10-12 Borde Street\, Port of Spain.\nTue – Thu 10 a.m. – 1 p.m.\nhttps://goo.gl/maps/FRTd6mn1H5k\n(Ask for Bafasports) \n\nEvent hashtags for use when sharing photos on social media: #Bafasports #Starbucks🇹🇹 #DefeatTheDark #5KCoffeeRun #MindWise #MentalHealthMatters \n  \n\n    \n        \n			                \n					United States (US) dollar                \n				                \n					Trinidad and Tobago dollar                \n				        \n    \n\n\n\n \nCLICK FOR FREQUENTLY ASKED QUESTIONS\n\nWhat distance to run/walk?\nYou must complete a distance of 5K. \nHow do I collect my medal?\nMedals available for collection immediately after the run. \nHow do I track my run?\nWhen you sign up\, we will provide you with an easy to install app that will track the distance with your smartphone. \n\n\n\n\n\n\n  \n 
URL:https://bafasports.com/event/starbucks-coffee-run-2025/
ATTACH;FMTTYPE=image/jpeg:https://bafasports.com/wp-content/uploads/2025/10/Starbuckss2025.jpg
END:VEVENT
BEGIN:VEVENT
DTSTART;TZID=America/Port_of_Spain:20251127T170000
DTEND;TZID=America/Port_of_Spain:20251127T180000
DTSTAMP:20260424T100010
CREATED:20251121T080148Z
LAST-MODIFIED:20251126T172402Z
UID:10000017-1764262800-1764266400@bafasports.com
SUMMARY:Community PopUp 2025
DESCRIPTION:Regular (TT $120.00) \nCome join us for  Community Popup Run on the 27th of November at the Queen’s Park Savannah. \nWe will be featuring the Maraval\, Dragon Eye\, Fatima 5K Medals (while stocks last). 🏅 \n🏁 Date: Thurs 27-Nov-2025 \n\n Meeting Time: 5:00 p.m.\n Starting Time: 5:30 p.m.\n\n\nDistance: 5K\nLocation: Queen’s Park Savannah (Opposite TGIF)\n\nGPS Pin: https://maps.app.goo.gl/vyZojEkzZNmhX6A9A \n\n\nZoomable Route: https://www.strava.com/routes/3142120078510102536 \n\n\nPrizes:\nTop 3 Male & Female Elite**\nTop 3 Male & Female Community** \n**Free participants are ineligible for prizes and medals. \nSponsors:\nPowerAde (Official Isotonic Sponsor) Powerade TT\nDasani (Official Water Sponsor) \nWhether you run\, walk\, or jog—every step helps a child grow on and off the field. Let’s build stronger futures together. \n#bafasports #popuprun \nNo Credit Card? No problem\nEither \n1) Pay via online bank transfer by messaging the Bafasports Support Channel  https://bafasports.com/support \nor \n2) Pay via cash in person at: \nTrinebox\, North\n#10-12 Borde Street\, Port of Spain.\nTue – Thu 10 a.m. – 1 p.m.\nhttps://goo.gl/maps/FRTd6mn1H5k\n(Ask for Bafasports)
URL:https://bafasports.com/event/community-popup-2025/
ATTACH;FMTTYPE=image/jpeg:https://bafasports.com/wp-content/uploads/2025/11/TSHIRT-MOCK-UP-2.jpg
END:VEVENT
BEGIN:VEVENT
DTSTART;TZID=America/Port_of_Spain:20251123T060000
DTEND;TZID=America/Port_of_Spain:20251123T090000
DTSTAMP:20260424T100011
CREATED:20251029T143502Z
LAST-MODIFIED:20251107T165314Z
UID:10000013-1763877600-1763888400@bafasports.com
SUMMARY:Kiss Safety Week 5K 2025 (Staff)
DESCRIPTION:Content is protected.
URL:https://bafasports.com/event/kiss-safety-week-2025staff/
END:VEVENT
BEGIN:VEVENT
DTSTART;TZID=America/Port_of_Spain:20251122T063000
DTEND;TZID=America/Port_of_Spain:20251122T063000
DTSTAMP:20260424T100011
CREATED:20251107T091004Z
LAST-MODIFIED:20251110T152452Z
UID:10000016-1763793000-1763793000@bafasports.com
SUMMARY:Tunapuna 5K 2025
DESCRIPTION:TT$150.00\nEarly Bird (TT$100.00) until November 20th \nSign up now for the lightning-fast Tunapuna 5K (part of the Tunapuna Week festivities staged by the Tunapuna Piarco Regional Corporation) where you can race on a flat\, closed course starting and finishing at Eddie Hart Savannah and score an exclusive event drifit T-shirt upon sign-up! Our heritage\, our knowledge\, our progress. \n\n  \n\n✅ Magnificent finisher medal for all participants✅ Walkers and runners welcome\n✅ A vibrant race village with lots of giveaways✅ Monetary prizes for the top 3 male and female finishers\n✅ Age group prizes\n✅ Largest team prize\n✅ T-shirt (dri-fit) included for all participants \n  \n \nSize Chart\nDate: Saturday 22nd November\,2025! \nTime: 6:30 AM \nStarting Location: Eddie Hart Savannah \nGPS Pin: https://maps.app.goo.gl/AUMyU86kSmvJiToW8 \nZoomable Route: https://strava.app.link/nYuSKUSt8Xb \n  \nNo Credit Card? No problem\nEither \n1) Pay via online bank transfer by contacting us on the Bafasports Support Channel  (Message ONLY): https://bafasports.com/support \nor \n2) Pay via cash in person at: \nTrinebox\, North\n#10-12 Borde Street\, Port of Spain.\nTue – Thu 10 a.m. – 1 p.m.\nhttps://goo.gl/maps/FRTd6mn1H5k\n(Ask for Bafasports) \n\nEvent hashtags for use when sharing photos on social media: #Bafasports #Tunapuna5k #TPRC5K \n  \n\n    \n        \n			                \n					United States (US) dollar                \n				                \n					Trinidad and Tobago dollar                \n				        \n    \n\n\n\n \nCLICK FOR FREQUENTLY ASKED QUESTIONS\n\nWhat distance to run/walk?\nYou must complete the distance of 5K. \nHow do I collect my medal?\nMedals available for collection immediately after the run. \nHow do I track my run?\nWhen you sign up\, we will provide you with an easy to install app that will track the distance with your smartphone. \n\n\n\n\n\n\n  \n 
URL:https://bafasports.com/event/tunapuna-5k-2025/
ATTACH;FMTTYPE=image/jpeg:https://bafasports.com/wp-content/uploads/2025/11/SLWA-TSHIRT-MOCK-UP-5.jpg
END:VEVENT
BEGIN:VEVENT
DTSTART;TZID=America/Port_of_Spain:20251115T163000
DTEND;TZID=America/Port_of_Spain:20251115T183000
DTSTAMP:20260424T100011
CREATED:20251006T172411Z
LAST-MODIFIED:20251104T152932Z
UID:10000003-1763224200-1763231400@bafasports.com
SUMMARY:Project I'mpossible Race to Rescue 5K 2025
DESCRIPTION:Note from the team: \nHello everyone\, \nPlease disregard our previous email sent on Sent on Nov 02\, 2025 10:58 regarding race perks and prizes. It was sent in error. \nThe correct and official details are indicated below.  Thank you for your understanding. \n–  The Bafasports Team \nJoin us on Saturday\, November 15th at 4:30 p.m. for the Project I’mPossible: Race to Rescue 5K 2025\, a meaningful run with heart\, fueled by purpose\, because every pet deserves a second chance. \nThis isn’t just a race\, it’s a lifeline. Every step you take helps rescue\, rehabilitate\, and rehome animals in need. Whether you’re running\, walking\, or wagging along with your furry friend\, you’re helping to build a world where every paw gets a place to call home. \n🎖️ Magnificent Finisher medals for all \n📸 Race photography💧 Hydration stations🏆 Age group prizes \n📅 Date: Saturday 15th November\,2025🕓 Time: 4:30 p.m. \n📍 Location: Queen’s Park Savannah (Opposite Stollmeyer’s Castle)🗺️ Route: https://www.strava.com/routes/3049297203164002654 \nNo Credit Card? No problem\nEither \n1) Pay via online bank transfer by contacting us on Bafasports Support Channel  (Message ONLY) https://bafasports.com/support \nor \n2) Pay via cash in person at: \nTrinebox\, North\n#10-12 Borde Street\, Port of Spain.\nBafasports Support Channel  (Message ONLY) https://bafasports.com/support\nTue – Thu 10 a.m. – 1 p.m.\nhttps://goo.gl/maps/FRTd6mn1H5k\n(Ask for Bafasports) \n\nEvent hashtags for use when sharing photos on social media: #bafasports #RacetoRescue #ProjectImpossible \n\n    \n        \n			                \n					United States (US) dollar                \n				                \n					Trinidad and Tobago dollar                \n				        \n    \n\n\n\n \nCLICK FOR FREQUENTLY ASKED QUESTIONS\n\nWhat distance to run/walk?\nYou must complete a distance of 5K (3.1 mi). \nHow do I collect my medal?\nMedals available for collection immediately after the run. \nHow do I track my run?\nWhen you sign up\, we will provide you with an easy to install app that will track the distance with your smartphone.
URL:https://bafasports.com/event/project-impossible-race-to-rescue-5k-2025/
LOCATION:Queen’s Park Savannah (Opp Stollmeyer’s Castle)\, Stollmeyer's Castle\, Port of Spain\, Caribbean\, 00000\, Trinidad and Tobago
ATTACH;FMTTYPE=image/jpeg:https://bafasports.com/wp-content/uploads/2025/10/project.jpg
ORGANIZER;CN="BAFA":MAILTO:races@bafasports.com
END:VEVENT
BEGIN:VEVENT
DTSTART;TZID=America/Port_of_Spain:20251108T060000
DTEND;TZID=America/Port_of_Spain:20251108T060000
DTSTAMP:20260424T100011
CREATED:20251028T104830Z
LAST-MODIFIED:20251102T195905Z
UID:10000012-1762581600-1762581600@bafasports.com
SUMMARY:Fatima College 5K 2025
DESCRIPTION:Regular Price (TT $129.00)  \n\n🏃‍♂️ Fatima College 80th Anniversary 5K Run/Walk 🏃‍♀️ \n\nCome celebrate 80 years of excellence with us at this special commemorative event! \n(Note\, online registration for non-students only\, all Fatima students must register at the school on race morning) \n📅 Date: Saturday 8th November\, 2025 \n🏁 Race Start: 6:00 a.m. \n📍 Location: Fatima College\, Mucurapo Road\, Port of Spain \n🗺 GPS Pin: https://maps.app.goo.gl/issyeotZLo7XjNPy8 \nZoomable Route: https://www.strava.com/routes/3289339792848280918 \n  \n🏅 80th Anniversary Commemorative Medal for all finishers (while stocks last)! \n📸 Race Photography \n💧 Hydration & Motivation Stations along the route \n🏆 Prizes: \n•Top 3 Male (Non-Student) \n•Top 3 Female (Non-Student) \n  \nWhether you run\, walk\, or jog — every step celebrates 80 years of Fatima tradition and excellence! 💙💛 \n  \n#Fatima80 #Fatima5K #GiftsOfBlueAndGold #FatimaStrong \n  \nNo Credit Card? No problem\nEither \n1) Pay via online bank transfer by contacting us on the Bafasports Support Channel  (Message ONLY): https://bafasports.com/support \nor \n2) ⏰ Race Day Registration Available at Fatima College: From 5:00 a.m. Sat 08-Nov-2025 \n  \n\n    \n        \n			                \n					United States (US) dollar                \n				                \n					Trinidad and Tobago dollar                \n				        \n    \n\n\n\n \nCLICK FOR FREQUENTLY ASKED QUESTIONS\n\nWhat distance to run/walk?\nYou must complete a distance of 5K. \nHow do I collect my medal?\nMedals available for collection immediately after the run. \nHow do I track my run?\nWhen you sign up\, we will provide you with an easy to install app that will track the distance with your smartphone. \n\n\n\n\n\n\n 
URL:https://bafasports.com/event/fatima-college-5k-2025/
ATTACH;FMTTYPE=image/png:https://bafasports.com/wp-content/uploads/2025/07/SLWA-TSHIRT-MOCK-UP-26.png
END:VEVENT
BEGIN:VEVENT
DTSTART;TZID=America/Port_of_Spain:20251025T060000
DTEND;TZID=America/Port_of_Spain:20251025T100000
DTSTAMP:20260424T100011
CREATED:20251006T114912Z
LAST-MODIFIED:20251010T061707Z
UID:10000001-1761372000-1761386400@bafasports.com
SUMMARY:Palo Seco Credit Union 5K 2025
DESCRIPTION:Get Ready for the Palo Seco Credit Union 5K 2025! \nJoin us for the Palo Seco Credit Union 5K 2025. Run through scenic routes in the Palo Seco Community and enjoy a fun-filled fitness experience. \n✅ Magnificent finisher medal for all participants✅ A vibrant\, supportive community atmosphere✅ Cash Prizes\n✅ Prizes for various age groups \nDate: Saturday 25th October\,2025! \nTime: 6:30 AM \nStarting Location: Palo Seco Credit Union \nGPS Pin: https://maps.app.goo.gl/ntTnbZgDvb5FWm7i9 \nZoomable Route: https://www.strava.com/routes/3386700623474432676 \n  \nNo Credit Card? No problem\nEither \n1) Pay via online bank transfer by contacting us on the Bafasports Support Channel  (Message ONLY): https://bafasports.com/support \nor \n2) Pay via cash in person at: \nTrinebox\, North\n#10-12 Borde Street\, Port of Spain.\nTue – Thu 10 a.m. – 1 p.m.\nhttps://goo.gl/maps/FRTd6mn1H5k\n(Ask for Bafasports) \n\nEvent hashtags for use when sharing photos on social media: #bafasports #pscu5k #richardbaird5k #paloseco5k \n  \n\n    \n        \n			                \n					United States (US) dollar                \n				                \n					Trinidad and Tobago dollar                \n				        \n    \n\n\n\n \nCLICK FOR FREQUENTLY ASKED QUESTIONS\n\nWhat distance to run/walk?\nYou must complete a distance of 5K. \nHow do I collect my medal?\nMedals available for collection immediately after the run. \nHow do I track my run?\nWhen you sign up\, we will provide you with an easy to install app that will track the distance with your smartphone. \n\n\n\n\n\n\n  \n 
URL:https://bafasports.com/event/palo-seco-credit-union-5k-2025/
ATTACH;FMTTYPE=image/png:https://bafasports.com/wp-content/uploads/2025/09/SLWA-TSHIRT-MOCK-UP-54.png
END:VEVENT
BEGIN:VEVENT
DTSTART;TZID=America/Port_of_Spain:20251022T163000
DTEND;TZID=America/Port_of_Spain:20251022T183000
DTSTAMP:20260424T100011
CREATED:20251018T043244Z
LAST-MODIFIED:20251022T211029Z
UID:10000010-1761150600-1761157800@bafasports.com
SUMMARY:SKHY FC Community Popup 5K 2025
DESCRIPTION:(TT$120.00) \nCome join us for a Special SKHY FC Community Popup Run on 22nd October at the Eddie Hart Savannah. \nWe will be featuring the SKHY FC 5K medal (while stocks last). 🏅 \n🏁 Date: Wed 22-Oct-2025\n⏰ Meeting Time: 4:30 p.m.\n⏰ Starting Time: 5:15 p.m.\n🏁 Distance: 5K \n📍 Location: Eddie Hart Savannah (near the food court)\n📍 GPS Pin: https://goo.gl/maps/sbbVMHXGvrw463iv8\n📍 Zoomable Route: https://www.strava.com/routes/3096216083694981158 \nPrizes:\nTop 3 Male & Female Elite**\nTop 3 Male & Female Community** \n**Free participants are ineligible for prizes and medals. \nSponsors:\nPowerAde (Official Isotonic Sponsor) Powerade TT\nDasani (Official Water Sponsor) \nWhether you run\, walk\, or jog—every step helps a child grow on and off the field. Let’s build stronger futures together. \n#RunForAGoal #SKHY5K #FutureThroughFootball \nNo Credit Card? No problem\nEither \n1) Pay via online bank transfer by messaging the Bafasports Support Channel  https://bafasports.com/support \nor \n2) Pay via cash in person at: \nTrinebox\, North\n#10-12 Borde Street\, Port of Spain.\nTue – Thu 10 a.m. – 1 p.m.\nhttps://goo.gl/maps/FRTd6mn1H5k\n(Ask for Bafasports)
URL:https://bafasports.com/event/skhy-fc-community-pop-up-2025/
ATTACH;FMTTYPE=image/png:https://bafasports.com/wp-content/uploads/2025/10/SLWA-TSHIRT-MOCK-UP-57.png
END:VEVENT
BEGIN:VEVENT
DTSTART;TZID=America/Port_of_Spain:20251019T000100
DTEND;TZID=America/Port_of_Spain:20251019T150000
DTSTAMP:20260424T100011
CREATED:20260422T205457Z
LAST-MODIFIED:20260422T205457Z
UID:10000057-1760832060-1760886000@bafasports.com
SUMMARY:Trinidad & Tobago Midnight 10K Tobago Edition 2026
DESCRIPTION:Don’t Miss The Trinidad and Tobago Midnight 10K (Tobago Edition) that traverses the Magdalena Grand Beach & Golf Resort\, Tobago. \nRun or walk 10K to earn piece of the magnificent midnight marathon glow in the dark medal \n✔️ Magnificent finisher medal for all\n✔️ Race course photography\, make a memory to last a lifetime\n✔️ Hydration and motivation stations to cheer you on\n✔️ Lots of Prizes to be won\n✔️ Enjoy steel pan music\, calypso\, soca and more at the finish!\n✔️ Part proceeds to charity \n  \nDate: COMING SOON\nTime: 12:01 a.m. \nStarting location: https://maps.app.goo.gl/4crpzNz9erGTauNcA?g_st=ac \nZoomable Race Route: https://www.strava.com/routes/3375756724170137872 \nThe course will be closed off from vehicular traffic with barriers. As for all Bafasports Events\, the necessary police permissions and security measures will be in place. \nNo Credit Card? No problem\nEither \n1) Pay via online bank transfer by contacting the Bafasports support channel  https://bafasports.com/support \nor \n2) Pay via cash in person at: \nTrinebox\, North\n#10-12 Borde Street\, Port of Spain.\nBafasports support channel  https://bafasports.com/support\nTue – Thu 10 a.m. – 1 p.m.\nhttps://goo.gl/maps/FRTd6mn1H5k\n(Ask for Bafasports) \n\nEvent hashtags for use when sharing photos on social media: #bafasports #Midnight10K #MidnightMarathon #TTMM \n\n    \n        \n			                \n					United States (US) dollar                \n				                \n					Trinidad and Tobago dollar                \n				        \n    \n\n\n\n \nCLICK FOR FREQUENTLY ASKED QUESTIONS\n\nWhat distance to run/walk?\nYou must complete a distance of 10K (6.2 mi). \nHow do I collect my medal?\nMedals available for collection immediately after the run. \nHow do I track my run?\nWhen you sign up\, we will provide you with an easy to install app that will track the distance with your smartphone.
URL:https://bafasports.com/event/trinidad-tobago-midnight-10k-tobago-edition-2026/
LOCATION:Magdalena Grand Beach and Golf Resort\, Magdalena Grand Beach and Golf Resort\, Tobago Plantations Estate\, Lowlands\, Caribbean\, 00000\, Trinidad and Tobago
ATTACH;FMTTYPE=image/jpeg:https://bafasports.com/wp-content/uploads/2026/04/tobago10k2026.jpg
ORGANIZER;CN="BAFA":MAILTO:races@bafasports.com
END:VEVENT
BEGIN:VEVENT
DTSTART;TZID=America/Port_of_Spain:20251019T000100
DTEND;TZID=America/Port_of_Spain:20251019T150000
DTSTAMP:20260424T100011
CREATED:20251006T181224Z
LAST-MODIFIED:20251017T095533Z
UID:10000004-1760832060-1760886000@bafasports.com
SUMMARY:Trinidad & Tobago Midnight 10K Tobago Edition
DESCRIPTION:Don’t Miss The Trinidad and Tobago Midnight 10K (Tobago Edition) that traverses the Magdalena Grand Beach & Golf Resort\, Tobago. \nRun or walk 10K to earn piece of the magnificent midnight marathon glow in the dark medal \n✔️ Magnificent finisher medal for all\n✔️ Race course photography\, make a memory to last a lifetime\n✔️ Hydration and motivation stations to cheer you on\n✔️ Lots of Prizes to be won\n✔️ Enjoy steel pan music\, calypso\, soca and more at the finish!\n✔️ Part proceeds to charity \n\nOr purchase a midnight runner tshirt online: https://bafasports.com/product/midnight-runner-dri-fit-t-shirt/ \n  \nDate: Sun 19-Oct-2025\nTime: 12:01 a.m. \nStarting location: https://maps.app.goo.gl/4crpzNz9erGTauNcA?g_st=ac \nZoomable Race Route: https://www.strava.com/routes/3375756724170137872 \nThe course will be closed off from vehicular traffic with barriers. As for all Bafasports Events\, the necessary police permissions and security measures will be in place. \nNo Credit Card? No problem\nEither \n1) Pay via online bank transfer by contacting the Bafasports support channel  https://bafasports.com/support \nor \n2) Pay via cash in person at: \nTrinebox\, North\n#10-12 Borde Street\, Port of Spain.\nBafasports support channel  https://bafasports.com/support\nTue – Thu 10 a.m. – 1 p.m.\nhttps://goo.gl/maps/FRTd6mn1H5k\n(Ask for Bafasports) \n\nEvent hashtags for use when sharing photos on social media: #bafasports #Midnight10K #MidnightMarathon #TTMM \n\n    \n        \n			                \n					United States (US) dollar                \n				                \n					Trinidad and Tobago dollar                \n				        \n    \n\n\n\n \nCLICK FOR FREQUENTLY ASKED QUESTIONS\n\nWhat distance to run/walk?\nYou must complete a distance of 10K (6.2 mi). \nHow do I collect my medal?\nMedals available for collection immediately after the run. \nHow do I track my run?\nWhen you sign up\, we will provide you with an easy to install app that will track the distance with your smartphone.
URL:https://bafasports.com/event/trinidad-tobago-midnight-10k-tobago-edition/
LOCATION:Magdalena Grand Beach and Golf Resort\, Magdalena Grand Beach and Golf Resort\, Tobago Plantations Estate\, Lowlands\, Caribbean\, 00000\, Trinidad and Tobago
ATTACH;FMTTYPE=image/jpeg:https://bafasports.com/wp-content/uploads/2025/10/midnight10k.jpg
ORGANIZER;CN="BAFA":MAILTO:races@bafasports.com
END:VEVENT
END:VCALENDAR