BEGIN:VCALENDAR
VERSION:2.0
PRODID:-//Bafasports.com - ECPv6.15.20//NONSGML v1.0//EN
CALSCALE:GREGORIAN
METHOD:PUBLISH
X-WR-CALNAME:Bafasports.com
X-ORIGINAL-URL:https://bafasports.com
X-WR-CALDESC:Events for Bafasports.com
REFRESH-INTERVAL;VALUE=DURATION:PT1H
X-Robots-Tag:noindex
X-PUBLISHED-TTL:PT1H
BEGIN:VTIMEZONE
TZID:America/Port_of_Spain
BEGIN:STANDARD
TZOFFSETFROM:-0400
TZOFFSETTO:-0400
TZNAME:AST
DTSTART:20240101T000000
END:STANDARD
END:VTIMEZONE
BEGIN:VEVENT
DTSTART;TZID=America/Port_of_Spain:20251108T060000
DTEND;TZID=America/Port_of_Spain:20251108T060000
DTSTAMP:20260424T115401
CREATED:20251028T104830Z
LAST-MODIFIED:20251102T195905Z
UID:10000012-1762581600-1762581600@bafasports.com
SUMMARY:Fatima College 5K 2025
DESCRIPTION:Regular Price (TT $129.00)  \n\n🏃‍♂️ Fatima College 80th Anniversary 5K Run/Walk 🏃‍♀️ \n\nCome celebrate 80 years of excellence with us at this special commemorative event! \n(Note\, online registration for non-students only\, all Fatima students must register at the school on race morning) \n📅 Date: Saturday 8th November\, 2025 \n🏁 Race Start: 6:00 a.m. \n📍 Location: Fatima College\, Mucurapo Road\, Port of Spain \n🗺 GPS Pin: https://maps.app.goo.gl/issyeotZLo7XjNPy8 \nZoomable Route: https://www.strava.com/routes/3289339792848280918 \n  \n🏅 80th Anniversary Commemorative Medal for all finishers (while stocks last)! \n📸 Race Photography \n💧 Hydration & Motivation Stations along the route \n🏆 Prizes: \n•Top 3 Male (Non-Student) \n•Top 3 Female (Non-Student) \n  \nWhether you run\, walk\, or jog — every step celebrates 80 years of Fatima tradition and excellence! 💙💛 \n  \n#Fatima80 #Fatima5K #GiftsOfBlueAndGold #FatimaStrong \n  \nNo Credit Card? No problem\nEither \n1) Pay via online bank transfer by contacting us on the Bafasports Support Channel  (Message ONLY): https://bafasports.com/support \nor \n2) ⏰ Race Day Registration Available at Fatima College: From 5:00 a.m. Sat 08-Nov-2025 \n  \n\n    \n        \n			                \n					United States (US) dollar                \n				                \n					Trinidad and Tobago dollar                \n				        \n    \n\n\n\n \nCLICK FOR FREQUENTLY ASKED QUESTIONS\n\nWhat distance to run/walk?\nYou must complete a distance of 5K. \nHow do I collect my medal?\nMedals available for collection immediately after the run. \nHow do I track my run?\nWhen you sign up\, we will provide you with an easy to install app that will track the distance with your smartphone. \n\n\n\n\n\n\n 
URL:https://bafasports.com/event/fatima-college-5k-2025/
ATTACH;FMTTYPE=image/png:https://bafasports.com/wp-content/uploads/2025/07/SLWA-TSHIRT-MOCK-UP-26.png
END:VEVENT
BEGIN:VEVENT
DTSTART;TZID=America/Port_of_Spain:20251025T060000
DTEND;TZID=America/Port_of_Spain:20251025T100000
DTSTAMP:20260424T115401
CREATED:20251006T114912Z
LAST-MODIFIED:20251010T061707Z
UID:10000001-1761372000-1761386400@bafasports.com
SUMMARY:Palo Seco Credit Union 5K 2025
DESCRIPTION:Get Ready for the Palo Seco Credit Union 5K 2025! \nJoin us for the Palo Seco Credit Union 5K 2025. Run through scenic routes in the Palo Seco Community and enjoy a fun-filled fitness experience. \n✅ Magnificent finisher medal for all participants✅ A vibrant\, supportive community atmosphere✅ Cash Prizes\n✅ Prizes for various age groups \nDate: Saturday 25th October\,2025! \nTime: 6:30 AM \nStarting Location: Palo Seco Credit Union \nGPS Pin: https://maps.app.goo.gl/ntTnbZgDvb5FWm7i9 \nZoomable Route: https://www.strava.com/routes/3386700623474432676 \n  \nNo Credit Card? No problem\nEither \n1) Pay via online bank transfer by contacting us on the Bafasports Support Channel  (Message ONLY): https://bafasports.com/support \nor \n2) Pay via cash in person at: \nTrinebox\, North\n#10-12 Borde Street\, Port of Spain.\nTue – Thu 10 a.m. – 1 p.m.\nhttps://goo.gl/maps/FRTd6mn1H5k\n(Ask for Bafasports) \n\nEvent hashtags for use when sharing photos on social media: #bafasports #pscu5k #richardbaird5k #paloseco5k \n  \n\n    \n        \n			                \n					United States (US) dollar                \n				                \n					Trinidad and Tobago dollar                \n				        \n    \n\n\n\n \nCLICK FOR FREQUENTLY ASKED QUESTIONS\n\nWhat distance to run/walk?\nYou must complete a distance of 5K. \nHow do I collect my medal?\nMedals available for collection immediately after the run. \nHow do I track my run?\nWhen you sign up\, we will provide you with an easy to install app that will track the distance with your smartphone. \n\n\n\n\n\n\n  \n 
URL:https://bafasports.com/event/palo-seco-credit-union-5k-2025/
ATTACH;FMTTYPE=image/png:https://bafasports.com/wp-content/uploads/2025/09/SLWA-TSHIRT-MOCK-UP-54.png
END:VEVENT
BEGIN:VEVENT
DTSTART;TZID=America/Port_of_Spain:20251022T163000
DTEND;TZID=America/Port_of_Spain:20251022T183000
DTSTAMP:20260424T115401
CREATED:20251018T043244Z
LAST-MODIFIED:20251022T211029Z
UID:10000010-1761150600-1761157800@bafasports.com
SUMMARY:SKHY FC Community Popup 5K 2025
DESCRIPTION:(TT$120.00) \nCome join us for a Special SKHY FC Community Popup Run on 22nd October at the Eddie Hart Savannah. \nWe will be featuring the SKHY FC 5K medal (while stocks last). 🏅 \n🏁 Date: Wed 22-Oct-2025\n⏰ Meeting Time: 4:30 p.m.\n⏰ Starting Time: 5:15 p.m.\n🏁 Distance: 5K \n📍 Location: Eddie Hart Savannah (near the food court)\n📍 GPS Pin: https://goo.gl/maps/sbbVMHXGvrw463iv8\n📍 Zoomable Route: https://www.strava.com/routes/3096216083694981158 \nPrizes:\nTop 3 Male & Female Elite**\nTop 3 Male & Female Community** \n**Free participants are ineligible for prizes and medals. \nSponsors:\nPowerAde (Official Isotonic Sponsor) Powerade TT\nDasani (Official Water Sponsor) \nWhether you run\, walk\, or jog—every step helps a child grow on and off the field. Let’s build stronger futures together. \n#RunForAGoal #SKHY5K #FutureThroughFootball \nNo Credit Card? No problem\nEither \n1) Pay via online bank transfer by messaging the Bafasports Support Channel  https://bafasports.com/support \nor \n2) Pay via cash in person at: \nTrinebox\, North\n#10-12 Borde Street\, Port of Spain.\nTue – Thu 10 a.m. – 1 p.m.\nhttps://goo.gl/maps/FRTd6mn1H5k\n(Ask for Bafasports)
URL:https://bafasports.com/event/skhy-fc-community-pop-up-2025/
ATTACH;FMTTYPE=image/png:https://bafasports.com/wp-content/uploads/2025/10/SLWA-TSHIRT-MOCK-UP-57.png
END:VEVENT
BEGIN:VEVENT
DTSTART;TZID=America/Port_of_Spain:20251019T000100
DTEND;TZID=America/Port_of_Spain:20251019T150000
DTSTAMP:20260424T115401
CREATED:20260422T205457Z
LAST-MODIFIED:20260422T205457Z
UID:10000057-1760832060-1760886000@bafasports.com
SUMMARY:Trinidad & Tobago Midnight 10K Tobago Edition 2026
DESCRIPTION:Don’t Miss The Trinidad and Tobago Midnight 10K (Tobago Edition) that traverses the Magdalena Grand Beach & Golf Resort\, Tobago. \nRun or walk 10K to earn piece of the magnificent midnight marathon glow in the dark medal \n✔️ Magnificent finisher medal for all\n✔️ Race course photography\, make a memory to last a lifetime\n✔️ Hydration and motivation stations to cheer you on\n✔️ Lots of Prizes to be won\n✔️ Enjoy steel pan music\, calypso\, soca and more at the finish!\n✔️ Part proceeds to charity \n  \nDate: COMING SOON\nTime: 12:01 a.m. \nStarting location: https://maps.app.goo.gl/4crpzNz9erGTauNcA?g_st=ac \nZoomable Race Route: https://www.strava.com/routes/3375756724170137872 \nThe course will be closed off from vehicular traffic with barriers. As for all Bafasports Events\, the necessary police permissions and security measures will be in place. \nNo Credit Card? No problem\nEither \n1) Pay via online bank transfer by contacting the Bafasports support channel  https://bafasports.com/support \nor \n2) Pay via cash in person at: \nTrinebox\, North\n#10-12 Borde Street\, Port of Spain.\nBafasports support channel  https://bafasports.com/support\nTue – Thu 10 a.m. – 1 p.m.\nhttps://goo.gl/maps/FRTd6mn1H5k\n(Ask for Bafasports) \n\nEvent hashtags for use when sharing photos on social media: #bafasports #Midnight10K #MidnightMarathon #TTMM \n\n    \n        \n			                \n					United States (US) dollar                \n				                \n					Trinidad and Tobago dollar                \n				        \n    \n\n\n\n \nCLICK FOR FREQUENTLY ASKED QUESTIONS\n\nWhat distance to run/walk?\nYou must complete a distance of 10K (6.2 mi). \nHow do I collect my medal?\nMedals available for collection immediately after the run. \nHow do I track my run?\nWhen you sign up\, we will provide you with an easy to install app that will track the distance with your smartphone.
URL:https://bafasports.com/event/trinidad-tobago-midnight-10k-tobago-edition-2026/
LOCATION:Magdalena Grand Beach and Golf Resort\, Magdalena Grand Beach and Golf Resort\, Tobago Plantations Estate\, Lowlands\, Caribbean\, 00000\, Trinidad and Tobago
ATTACH;FMTTYPE=image/jpeg:https://bafasports.com/wp-content/uploads/2026/04/tobago10k2026.jpg
ORGANIZER;CN="BAFA":MAILTO:races@bafasports.com
END:VEVENT
BEGIN:VEVENT
DTSTART;TZID=America/Port_of_Spain:20251019T000100
DTEND;TZID=America/Port_of_Spain:20251019T150000
DTSTAMP:20260424T115401
CREATED:20251006T181224Z
LAST-MODIFIED:20251017T095533Z
UID:10000004-1760832060-1760886000@bafasports.com
SUMMARY:Trinidad & Tobago Midnight 10K Tobago Edition
DESCRIPTION:Don’t Miss The Trinidad and Tobago Midnight 10K (Tobago Edition) that traverses the Magdalena Grand Beach & Golf Resort\, Tobago. \nRun or walk 10K to earn piece of the magnificent midnight marathon glow in the dark medal \n✔️ Magnificent finisher medal for all\n✔️ Race course photography\, make a memory to last a lifetime\n✔️ Hydration and motivation stations to cheer you on\n✔️ Lots of Prizes to be won\n✔️ Enjoy steel pan music\, calypso\, soca and more at the finish!\n✔️ Part proceeds to charity \n\nOr purchase a midnight runner tshirt online: https://bafasports.com/product/midnight-runner-dri-fit-t-shirt/ \n  \nDate: Sun 19-Oct-2025\nTime: 12:01 a.m. \nStarting location: https://maps.app.goo.gl/4crpzNz9erGTauNcA?g_st=ac \nZoomable Race Route: https://www.strava.com/routes/3375756724170137872 \nThe course will be closed off from vehicular traffic with barriers. As for all Bafasports Events\, the necessary police permissions and security measures will be in place. \nNo Credit Card? No problem\nEither \n1) Pay via online bank transfer by contacting the Bafasports support channel  https://bafasports.com/support \nor \n2) Pay via cash in person at: \nTrinebox\, North\n#10-12 Borde Street\, Port of Spain.\nBafasports support channel  https://bafasports.com/support\nTue – Thu 10 a.m. – 1 p.m.\nhttps://goo.gl/maps/FRTd6mn1H5k\n(Ask for Bafasports) \n\nEvent hashtags for use when sharing photos on social media: #bafasports #Midnight10K #MidnightMarathon #TTMM \n\n    \n        \n			                \n					United States (US) dollar                \n				                \n					Trinidad and Tobago dollar                \n				        \n    \n\n\n\n \nCLICK FOR FREQUENTLY ASKED QUESTIONS\n\nWhat distance to run/walk?\nYou must complete a distance of 10K (6.2 mi). \nHow do I collect my medal?\nMedals available for collection immediately after the run. \nHow do I track my run?\nWhen you sign up\, we will provide you with an easy to install app that will track the distance with your smartphone.
URL:https://bafasports.com/event/trinidad-tobago-midnight-10k-tobago-edition/
LOCATION:Magdalena Grand Beach and Golf Resort\, Magdalena Grand Beach and Golf Resort\, Tobago Plantations Estate\, Lowlands\, Caribbean\, 00000\, Trinidad and Tobago
ATTACH;FMTTYPE=image/jpeg:https://bafasports.com/wp-content/uploads/2025/10/midnight10k.jpg
ORGANIZER;CN="BAFA":MAILTO:races@bafasports.com
END:VEVENT
END:VCALENDAR