BEGIN:VCALENDAR
VERSION:2.0
PRODID:-//Bafasports.com - ECPv6.15.20//NONSGML v1.0//EN
CALSCALE:GREGORIAN
METHOD:PUBLISH
X-ORIGINAL-URL:https://bafasports.com
X-WR-CALDESC:Events for Bafasports.com
REFRESH-INTERVAL;VALUE=DURATION:PT1H
X-Robots-Tag:noindex
X-PUBLISHED-TTL:PT1H
BEGIN:VTIMEZONE
TZID:America/Port_of_Spain
BEGIN:STANDARD
TZOFFSETFROM:-0400
TZOFFSETTO:-0400
TZNAME:AST
DTSTART:20250101T000000
END:STANDARD
END:VTIMEZONE
BEGIN:VEVENT
DTSTART;TZID=America/Port_of_Spain:20260614T163000
DTEND;TZID=America/Port_of_Spain:20260614T200000
DTSTAMP:20260424T095732
CREATED:20260419T004925Z
LAST-MODIFIED:20260421T150758Z
UID:10000053-1781454600-1781467200@bafasports.com
SUMMARY:Van Sertima Magnificent Seven One Lap 2026
DESCRIPTION:(TT$170.00)\nSuper Early Bird (TT$150.00) \nGet Ready for Van Sertima Magnificent Seven One Lap 2026! \nRegister now for the Van Sertima Magnificent Seven One Lap 2026! Experience the thrill of movement as you run or walk a dynamic route inspired by the iconic Magnificent Seven landmarks of Trinidad and Tobago. \nCelebrate the beauty and history of these architectural gems\, including Queen’s Royal College\, Stollmeyer’s Castle\, Whitehall\, Mille Fleurs\, Roomor\, Ambard’s House and Hayes Court—each representing a piece of the nation’s rich cultural heritage. \nWhether you’re running for time or taking it all in\, this event offers a unique blend of fitness\, history\, and national pride. \nJoin the experience—one lap\, seven landmarks\, endless inspiration. \n✔️ Magnificent medals for all finishers.\n✔️ Race course photography\, make a memory to last a lifetime\n✔️ Hydration and motivation stations to cheer you on.\n✔️ Cash Prizes for top 3 male and female finishers.\n✔️ Age group prizes.\n✔️ Product sampling and giveaways. \n  \n📅 Date: Sunday 14th June\, 2026\n🕓 Time: 4:30 p.m. \n📍Location:https://goo.gl/maps/uBepvMofpUUpkZsLA\n🗺️  Route: https://www.strava.com/routes/20698862 \n  \n\n\n\n\n\nNo Credit Card? No problem\nEither \n1) Pay via online bank transfer by contacting the Bafasports Support Channel 📱 https://bafasports.com/support \nor \n2) Pay via cash in person at: \nTrinebox\, North\n#10-12 Borde Street\, Port of Spain.\nTue – Thu 10 a.m. – 1 p.m.\nhttps://goo.gl/maps/FRTd6mn1H5k\n(Ask for Bafasports) \n\nEvent hashtags for use when sharing photos on social media: #bafasports #magnificent7loop #vansatima \n\n \nCLICK FOR FREQUENTLY ASKED QUESTIONS\n\nWhat distance to run/walk?\nYou must complete a distance of one savannah lap. \nHow do I collect my medal?\nMedals available for collection immediately after the run. \nHow do I track my run?\nWhen you sign up\, we will provide you with an easy to install app that will track the distance with your smartphone.
URL:https://bafasports.com/event/van-sertima-magnificent-seven-lap-2026/
LOCATION:Caribbean
ATTACH;FMTTYPE=image/jpeg:https://bafasports.com/wp-content/uploads/2026/04/vansertimaloop.jpg
END:VEVENT
BEGIN:VEVENT
DTSTART;TZID=America/Port_of_Spain:20260815T150000
DTEND;TZID=America/Port_of_Spain:20260815T180000
DTSTAMP:20260424T095732
CREATED:20251230T191457Z
LAST-MODIFIED:20260417T213503Z
UID:10000027-1786806000-1786816800@bafasports.com
SUMMARY:Mayaro Coconut Beach 5k & 1k 2026
DESCRIPTION:Earlybird Price (TT $150.00) \nRegister now for the Mayaro 5K & 1K— where sun\, sea\, and fitness come together! \nLace up and get ready to run along the stunning shores of Mayaro Beach this August. Feel the ocean breeze\, soak up the vibes\, and challenge yourself in one of the most scenic races of the year. 🌊🥥💪 \nNote: The race time is subject to change based on the tide. \n  \nDon’t miss this unforgettable beach run — sign up today! \n✔️ Magnificent medals for all finishers.\n✔️ Hydration and motivation stations to cheer you on.\n✔️ Cash prizes for top 3 male and female finishers.\n✔️ Age group prizes.\n✔️ Product sampling and giveaways. \n  \n📅 Date: Saturday 15th August\, 2026. \n📍 Location: Mayaro Beach (Between Radix Beach Resort and Queen’s Beach Resort). \n🕓 1k Time: 3:00 p.m. (12 & Under only) \n🗺️ Route: https://www.strava.com/routes/3233788701823688880 \n🕓 5k Time: 4:30 p.m \n🗺️ Route: https://www.strava.com/routes/3234215595304037634 \nNo Credit Card? No problem\nEither \n1) Pay via online bank transfer by contacting us on Bafasports Support Channel  (Message ONLY) https://bafasports.com/support \nor \n2) Pay via cash in person at: \nTrinebox\, North\n#10-12 Borde Street\, Port of Spain.\nBafasports Support Channel  (Message ONLY) https://bafasports.com/support\nTue – Thu 10 a.m. – 1 p.m.\nhttps://goo.gl/maps/FRTd6mn1H5k\n(Ask for Bafasports) \n\nEvent hashtags for use when sharing photos on social media: #bafasports #mayaro10k
URL:https://bafasports.com/event/mayaro-5k-1k-2026/
LOCATION:Caribbean
ATTACH;FMTTYPE=image/png:https://bafasports.com/wp-content/uploads/2025/12/TSHIRT-MOCK-UP-28.png
END:VEVENT
BEGIN:VEVENT
DTSTART;TZID=America/Port_of_Spain:20260816T060000
DTEND;TZID=America/Port_of_Spain:20260816T090000
DTSTAMP:20260424T095732
CREATED:20251223T045943Z
LAST-MODIFIED:20260420T004024Z
UID:10000025-1786860000-1786870800@bafasports.com
SUMMARY:Mayaro Coconut Beach 10K 2026
DESCRIPTION:Earlybird Price (TT $180.00) \nRegister now for the Mayaro 10K — where sun\, sea\, and fitness come together! \nLace up and get ready to run along the stunning shores of Mayaro Beach this August. Feel the ocean breeze\, soak up the vibes\, and challenge yourself in one of the most scenic races of the year. 🌊🥥💪 \nNote: The race time is subject to change based on the tide. \n  \nDon’t miss this unforgettable beach run — sign up today! \n✔️ Magnificent medals for all finishers.\n✔️ Hydration and motivation stations to cheer you on.\n✔️ Cash prizes for top 3 male and female finishers.\n✔️ Age group prizes.\n✔️ Product sampling and giveaways. \n📅 Date: Sunday 16th August\, 2026.🕓 Time: 6:00 AM \n📍 Location: Mayaro Beach (Between Radix Beach Resort and Queen’s Beach Resort).🗺️ Route: https://www.strava.com/routes/3234184418486521162 \nNo Credit Card? No problem\nEither \n1) Pay via online bank transfer by contacting us on Bafasports Support Channel  (Message ONLY) https://bafasports.com/support \nor \n2) Pay via cash in person at: \nTrinebox\, North\n#10-12 Borde Street\, Port of Spain.\nBafasports Support Channel  (Message ONLY) https://bafasports.com/support\nTue – Thu 10 a.m. – 1 p.m.\nhttps://goo.gl/maps/FRTd6mn1H5k\n(Ask for Bafasports) \n\nEvent hashtags for use when sharing photos on social media: #bafasports #mayaro10k
URL:https://bafasports.com/event/mayaro-10k-2026/
LOCATION:Caribbean
ATTACH;FMTTYPE=image/png:https://bafasports.com/wp-content/uploads/2025/12/TSHIRT-MOCK-UP-27.png
END:VEVENT
END:VCALENDAR