BEGIN:VCALENDAR
VERSION:2.0
PRODID:-//Bafasports.com - ECPv6.15.20//NONSGML v1.0//EN
CALSCALE:GREGORIAN
METHOD:PUBLISH
X-ORIGINAL-URL:https://bafasports.com
X-WR-CALDESC:Events for Bafasports.com
REFRESH-INTERVAL;VALUE=DURATION:PT1H
X-Robots-Tag:noindex
X-PUBLISHED-TTL:PT1H
BEGIN:VTIMEZONE
TZID:America/Port_of_Spain
BEGIN:STANDARD
TZOFFSETFROM:-0400
TZOFFSETTO:-0400
TZNAME:AST
DTSTART:20250101T000000
END:STANDARD
END:VTIMEZONE
BEGIN:VEVENT
DTSTART;TZID=America/Port_of_Spain:20260503T060000
DTEND;TZID=America/Port_of_Spain:20260503T090000
DTSTAMP:20260424T065814
CREATED:20260326T173819Z
LAST-MODIFIED:20260418T184936Z
UID:10000048-1777788000-1777798800@bafasports.com
SUMMARY:St. Joseph's Convent POS 5K 2026
DESCRIPTION:TT$175.00 \nSuper Early Bird (TT$150.00) \nGet Ready for St. Joseph’s Convent Port of Spain 5K 2026! \nRegister now for the St. Joseph’s Convent Port of Spain 5K 2026 and be part of a powerful celebration of “Bloom Where You are Planted” as they mark 190 years of service and excellence in education. \nJoin runners and walkers of all levels for an inspiring\, high-energy experience filled with school pride\, community spirit\, and purpose. Don’t miss your chance to celebrate legacy\, growth\, and achievement—secure your spot today! \n✔️ Magnificent medals for all finishers.\n✔️ Race course photography\, make a memory to last a lifetime\n✔️ Hydration and motivation stations to cheer you on.\n✔️ Cash prizes for top 3 male and female finishers.\n✔️ Age group prizes.\n✔️ Product sampling and giveaways. \n  \n📅 Date: Sunday 3rd May\, 2026\n🕓 Time:  6:00 AM \n📍Location: https://maps.app.goo.gl/fQjsd3dSycUttJVT9\n🗺️  Route: https://www.strava.com/routes/3403341812254537582 \n  \n\n\n\n\n\nNo Credit Card? No problem\nEither \n1) Pay via online bank transfer by contacting the Bafasports Support Channel 📱 https://bafasports.com/support \nor \n2) Pay via cash in person at: \nTrinebox\, North\n#10-12 Borde Street\, Port of Spain.\nTue – Thu 10 a.m. – 1 p.m.\nhttps://goo.gl/maps/FRTd6mn1H5k\n(Ask for Bafasports) \n\nEvent hashtags for use when sharing photos on social media: #bafasports #sjcpos5k2026 \n\n \nCLICK FOR FREQUENTLY ASKED QUESTIONS\n\nWhat distance to run/walk?\nYou must complete a distance of 5K (3.1 mi). \nHow do I collect my medal?\nMedals available for collection immediately after the run. \nHow do I track my run?\nWhen you sign up\, we will provide you with an easy to install app that will track the distance with your smartphone.
URL:https://bafasports.com/event/st-joseph-convent-pos-5k-2026/
LOCATION:Caribbean
ATTACH;FMTTYPE=image/jpeg:https://bafasports.com/wp-content/uploads/2026/03/sjcpos5k2026.jpg
END:VEVENT
BEGIN:VEVENT
DTSTART;TZID=America/Port_of_Spain:20260503T060000
DTEND;TZID=America/Port_of_Spain:20260503T090000
DTSTAMP:20260424T065814
CREATED:20260421T181605Z
LAST-MODIFIED:20260421T181758Z
UID:10000056-1777788000-1777798800@bafasports.com
SUMMARY:St. Joseph's Convent POS Walkathon STUDENTS ONLY 2026
DESCRIPTION:Content is protected.
URL:https://bafasports.com/event/st-josephs-convent-pos-walkathon-students-only-2026/
LOCATION:Caribbean
END:VEVENT
END:VCALENDAR