BEGIN:VCALENDAR
VERSION:2.0
PRODID:-//Bafasports.com - ECPv6.15.20//NONSGML v1.0//EN
CALSCALE:GREGORIAN
METHOD:PUBLISH
X-WR-CALNAME:Bafasports.com
X-ORIGINAL-URL:https://bafasports.com
X-WR-CALDESC:Events for Bafasports.com
REFRESH-INTERVAL;VALUE=DURATION:PT1H
X-Robots-Tag:noindex
X-PUBLISHED-TTL:PT1H
BEGIN:VTIMEZONE
TZID:America/Port_of_Spain
BEGIN:STANDARD
TZOFFSETFROM:-0400
TZOFFSETTO:-0400
TZNAME:AST
DTSTART:20250101T000000
END:STANDARD
END:VTIMEZONE
BEGIN:VEVENT
DTSTART;TZID=America/Port_of_Spain:20260411T143000
DTEND;TZID=America/Port_of_Spain:20260411T143000
DTSTAMP:20260420T221523
CREATED:20260314T102629Z
LAST-MODIFIED:20260403T191248Z
UID:10000047-1775917800-1775917800@bafasports.com
SUMMARY:KFC Colonel's 1K 2026
DESCRIPTION:Content is protected.
URL:https://bafasports.com/event/kfc-colonels-1k-2026/
END:VEVENT
BEGIN:VEVENT
DTSTART;TZID=America/Port_of_Spain:20260411T160000
DTEND;TZID=America/Port_of_Spain:20260411T160000
DTSTAMP:20260420T221523
CREATED:20260303T133514Z
LAST-MODIFIED:20260408T182219Z
UID:10000040-1775923200-1775923200@bafasports.com
SUMMARY:KFC Colonel's 5K 2026
DESCRIPTION:Content is protected.
URL:https://bafasports.com/event/kfc-colonels-5k-2026/
END:VEVENT
END:VCALENDAR