BEGIN:VCALENDAR
VERSION:2.0
PRODID:-//Bafasports.com - ECPv6.15.20//NONSGML v1.0//EN
CALSCALE:GREGORIAN
METHOD:PUBLISH
X-ORIGINAL-URL:https://bafasports.com
X-WR-CALDESC:Events for Bafasports.com
REFRESH-INTERVAL;VALUE=DURATION:PT1H
X-Robots-Tag:noindex
X-PUBLISHED-TTL:PT1H
BEGIN:VTIMEZONE
TZID:America/Port_of_Spain
BEGIN:STANDARD
TZOFFSETFROM:-0400
TZOFFSETTO:-0400
TZNAME:AST
DTSTART:20250101T000000
END:STANDARD
END:VTIMEZONE
BEGIN:VEVENT
DTSTART;TZID=America/Port_of_Spain:20260322T060000
DTEND;TZID=America/Port_of_Spain:20260322T090000
DTSTAMP:20260424T082334
CREATED:20260227T145803Z
LAST-MODIFIED:20260318T094439Z
UID:10000037-1774159200-1774170000@bafasports.com
SUMMARY:Deanflow Remembrance 5K 2026
DESCRIPTION:$160.00\nEarly Bird Price (TT$150.00) \nSign up now and run/walk in remembrance: The Dean Flow Remembrance 5K 2026 \nLace up and take to the road in honor of Bhagwandeen “Deanflow” Frankie \, a passionate runner whose love for the sport and community continues to inspire. The Dean Flow Remembrance 5K is an annual run supporting a charity close to his heart while promoting safer roads for runners across Trinidad & Tobago. \nEvery stride you take celebrates Dean’s life\, his energy\, and his unwavering passion for running. This event brings runners and walkers together to remember\, reflect\, and help build greater awareness around road safety for all. \nRun with purpose. Run with heart.\nKeep the flow alive. 🏃🏽‍♂️💙 \n\n  \n\n✅ Runners and walkers welcome\n🏅 Memorial finisher medal for all participants\n📸 Race photography\n💧 Hydration & motivation stations along the route🎪 A vibrant race village with lots of giveaways💰 Prizes for Top 3 overall \n  \n📅 Date: Sunday 22nd March\,2026!\n⏱️ Time: 6:30 AM\n🗺  Starting Location: Manny Ramjohn Stadium\, Marabella\, San Fernando.\n📍 GPS Pin: https://maps.app.goo.gl/FKoZenbjsevLJ4Fx6\n🧭 Zoomable Route: https://www.strava.com/routes/3420115731536353872 \n  \nNo Credit Card? No problem\nEither \n1) Pay via online bank transfer. Contact us on the Bafasports Support Channel  (Message ONLY) for more details: https://bafasports.com/support \nor \n2) Pay via cash in person at: \nTrinebox\, North\n#10-12 Borde Street\, Port of Spain.\nTue – Thu 10 a.m. – 1 p.m.\nhttps://goo.gl/maps/FRTd6mn1H5k\n(Ask for Bafasports) \n\nEvent hashtags for use when sharing photos on social media: #bafasports \n  \n\n    \n        \n			                \n					United States (US) dollar                \n				                \n					Trinidad and Tobago dollar                \n				        \n    \n\n\n\n \nCLICK FOR FREQUENTLY ASKED QUESTIONS\n\nWhat distance to run/walk?\nYou must complete a distance of 5K. \nHow do I collect my medal?\nMedals available for collection immediately after the run. \nHow do I track my run?\nWhen you sign up\, we will provide you with an easy to install app that will track the distance with your smartphone. \n\n\n\n\n\n\n  \n 
URL:https://bafasports.com/event/deanflow-remembrance-5k-2026-2/
LOCATION:Caribbean
ATTACH;FMTTYPE=image/jpeg:https://bafasports.com/wp-content/uploads/2026/02/deanflow5k.jpg
END:VEVENT
END:VCALENDAR