BEGIN:VCALENDAR
VERSION:2.0
PRODID:-//Bafasports.com - ECPv6.15.20//NONSGML v1.0//EN
CALSCALE:GREGORIAN
METHOD:PUBLISH
X-ORIGINAL-URL:https://bafasports.com
X-WR-CALDESC:Events for Bafasports.com
REFRESH-INTERVAL;VALUE=DURATION:PT1H
X-Robots-Tag:noindex
X-PUBLISHED-TTL:PT1H
BEGIN:VTIMEZONE
TZID:America/Port_of_Spain
BEGIN:STANDARD
TZOFFSETFROM:-0400
TZOFFSETTO:-0400
TZNAME:AST
DTSTART:20250101T000000
END:STANDARD
END:VTIMEZONE
BEGIN:VEVENT
DTSTART;TZID=America/Port_of_Spain:20260321T060000
DTEND;TZID=America/Port_of_Spain:20260321T080000
DTSTAMP:20260424T082457
CREATED:20260127T151521Z
LAST-MODIFIED:20260320T104535Z
UID:10000030-1774072800-1774080000@bafasports.com
SUMMARY:SAWA Loop Road Race 5K
DESCRIPTION:Regular Price (TT $150.00) \nRegister now for  SAWA Loop Road Race 5K —Run Away from Crime\, One Stride at a Time! 🏃🏽‍♀️🏃🏽‍♂️ \nDon’t miss this exciting and scenic road race\, proudly presented by Kneads to Function in collaboration with San Juan Youths. Lace up\, show up\, and run for a cause that promotes positive change in our community. \n✨ Cash prizes and exciting giveaways up for grabs!\n🎖 Stunning finisher medals for every participant\n📸 Professional race photography to capture your victory moments\n💧 Well-stocked hydration stations along the course\n🏆 Age-group prizes for top performers \nWhether you’re running to compete\, connect\, or support the mission\, this is a race you don’t want to miss! \n📅 Date: Saturday\, 21st of March\, 2026.🕓 Time: 6:00 a.m. \n📍 Location: Corner of Santa Cruz Old Road & Real Street(By San Juan Health Center🗺️ Route: https://www.strava.com/routes/3455230619882646872 \nNo Credit Card? No problem\nEither \n1) Pay via online bank transfer by contacting us on Bafasports Support Channel  (Message ONLY) https://bafasports.com/support \nor \n2) Pay via cash in person at: \nTrinebox\, North\n#10-12 Borde Street\, Port of Spain.\nBafasports Support Channel  (Message ONLY) https://bafasports.com/support\nTue – Thu 10 a.m. – 1 p.m.\nhttps://goo.gl/maps/FRTd6mn1H5k\n(Ask for Bafasports) \n\nEvent hashtags for use when sharing photos on social media: #bafasports #roadrace #SAWA \n\n    \n        \n			                \n					United States (US) dollar                \n				                \n					Trinidad and Tobago dollar                \n				        \n    \n\n\n\n \nCLICK FOR FREQUENTLY ASKED QUESTIONS\n\nWhat distance to run/walk?\nYou must complete a distance of 5K (3.1 mi). \nHow do I collect my medal?\nMedals available for collection immediately after the run. \nHow do I track my run?\nWhen you sign up\, we will provide you with an easy to install app that will track the distance with your smartphone.
URL:https://bafasports.com/event/sawa-loop-road-race-5k/
LOCATION:Caribbean
ATTACH;FMTTYPE=image/png:https://bafasports.com/wp-content/uploads/2026/01/TSHIRT-MOCK-UP-45-1.png
END:VEVENT
END:VCALENDAR