BEGIN:VCALENDAR
VERSION:2.0
PRODID:-//Bafasports.com - ECPv6.15.20//NONSGML v1.0//EN
CALSCALE:GREGORIAN
METHOD:PUBLISH
X-ORIGINAL-URL:https://bafasports.com
X-WR-CALDESC:Events for Bafasports.com
REFRESH-INTERVAL;VALUE=DURATION:PT1H
X-Robots-Tag:noindex
X-PUBLISHED-TTL:PT1H
BEGIN:VTIMEZONE
TZID:America/Port_of_Spain
BEGIN:STANDARD
TZOFFSETFROM:-0400
TZOFFSETTO:-0400
TZNAME:AST
DTSTART:20250101T000000
END:STANDARD
END:VTIMEZONE
BEGIN:VEVENT
DTSTART;TZID=America/Port_of_Spain:20260308T000100
DTEND;TZID=America/Port_of_Spain:20260308T030000
DTSTAMP:20260424T082334
CREATED:20251007T033534Z
LAST-MODIFIED:20260312T111018Z
UID:10000005-1772928060-1772938800@bafasports.com
SUMMARY:Trinidad & Tobago Midnight 10K Ariapita 2026
DESCRIPTION:TT$240.00\nTT$210.00 \nThe Trinidad and Tobago Midnight 10K Ariapita (aka the Tony 10K) traverses the Queen’s Park Savannah\, famed as the home of carnival. \nRun or walk 10K to earn piece of the magnificent midnight marathon glow in the dark medal. \n  \nThis race is held in honor of Anthony Harford who shared his vision for a marquee sporting event featuring carnival culture. \n✔️ Magnificent finisher medal for all\n✔️ Race course photography\, make a memory to last a lifetime\n✔️ Hydration and motivation stations to cheer you on\n✔️ Lots of Prizes to be won\n✔️ Enjoy steel pan music\, calypso\, soca and more at the finish!\n✔️ Part proceeds to charity (Children with Cancer) \nDate: Sunday 8th March\, 2026\nTime: 12:01 a.m. \nStarting location: https://maps.app.goo.gl/d6PobaRA7iPHnbLE9 \nZoomable Race Route: https://www.strava.com/routes/3307362806500536566 \nThe course will be closed off from vehicular traffic with barriers. As for all Bafasports Events\, the necessary police permissions and security measures will be in place. In addition\, over 60+ members of the protective services will be deployed to ensure a safe environment for participants. \n  \n\n\n\n\n\nNo Credit Card? No problem\nEither \n1) Pay via online bank transfer by contacting the Bafasports Support Channel  https://bafasports.com/support \nor \n2) Pay via cash in person at: \nTrinebox\, North\n#10-12 Borde Street\, Port of Spain.\nTue – Thu 10 a.m. – 1 p.m.\nhttps://goo.gl/maps/FRTd6mn1H5k\n(Ask for Bafasports) \n\nEvent hashtags for use when sharing photos on social media: #bafasports #Midnight10K #MidnightMarathon2026 #TTMM \n\n    \n        \n			                \n					United States (US) dollar                \n				                \n					Trinidad and Tobago dollar                \n				        \n    \n\n\n \nCLICK FOR FREQUENTLY ASKED QUESTIONS\n\nWhat distance to run/walk?\nYou must complete a distance of 10K (6.2 mi). \nHow do I collect my medal?\nMedals available for collection immediately after the run. \nHow do I track my run?\nWhen you sign up\, we will provide you with an easy to install app that will track the distance with your smartphone.
URL:https://bafasports.com/event/trinidad-tobago-midnight-10k-2026/
LOCATION:Caribbean
ATTACH;FMTTYPE=image/png:https://bafasports.com/wp-content/uploads/2025/10/Copy-of-Shared-Midnight-Runner-Series-2026.png
END:VEVENT
END:VCALENDAR